BEGIN:VCALENDAR
VERSION:2.0
PRODID:-//Veslački klub Danubius 1885 - ECPv6.15.20//NONSGML v1.0//EN
CALSCALE:GREGORIAN
METHOD:PUBLISH
X-WR-CALNAME:Veslački klub Danubius 1885
X-ORIGINAL-URL:https://www.danubius1885.org
X-WR-CALDESC:Events for Veslački klub Danubius 1885
REFRESH-INTERVAL;VALUE=DURATION:PT1H
X-Robots-Tag:noindex
X-PUBLISHED-TTL:PT1H
BEGIN:VTIMEZONE
TZID:Europe/Belgrade
BEGIN:DAYLIGHT
TZOFFSETFROM:+0100
TZOFFSETTO:+0200
TZNAME:CEST
DTSTART:20250330T010000
END:DAYLIGHT
BEGIN:STANDARD
TZOFFSETFROM:+0200
TZOFFSETTO:+0100
TZNAME:CET
DTSTART:20251026T010000
END:STANDARD
BEGIN:DAYLIGHT
TZOFFSETFROM:+0100
TZOFFSETTO:+0200
TZNAME:CEST
DTSTART:20260329T010000
END:DAYLIGHT
BEGIN:STANDARD
TZOFFSETFROM:+0200
TZOFFSETTO:+0100
TZNAME:CET
DTSTART:20261025T010000
END:STANDARD
BEGIN:DAYLIGHT
TZOFFSETFROM:+0100
TZOFFSETTO:+0200
TZNAME:CEST
DTSTART:20270328T010000
END:DAYLIGHT
BEGIN:STANDARD
TZOFFSETFROM:+0200
TZOFFSETTO:+0100
TZNAME:CET
DTSTART:20271031T010000
END:STANDARD
END:VTIMEZONE
BEGIN:VEVENT
DTSTART;VALUE=DATE:20260404
DTEND;VALUE=DATE:20260405
DTSTAMP:20260422T171010
CREATED:20260325T201702Z
LAST-MODIFIED:20260325T201702Z
UID:4629-1775260800-1775347199@www.danubius1885.org
SUMMARY:I regata kupa Srbije\, I kolo omladinske lige Srbije\, Prvenstvo Beograda u Veslanju
DESCRIPTION:
URL:https://www.danubius1885.org/event/i-regata-kupa-srbije-i-kolo-omladinske-lige-srbije-prvenstvo-beograda-u-veslanju/
LOCATION:Ada Ciganlija\, Sava lake\, Beograd\, Serbia
END:VEVENT
END:VCALENDAR