BEGIN:VCALENDAR
VERSION:2.0
PRODID:-//Veslački klub Danubius 1885 - ECPv6.15.20//NONSGML v1.0//EN
CALSCALE:GREGORIAN
METHOD:PUBLISH
X-ORIGINAL-URL:http://www.danubius1885.org
X-WR-CALDESC:Events for Veslački klub Danubius 1885
REFRESH-INTERVAL;VALUE=DURATION:PT1H
X-Robots-Tag:noindex
X-PUBLISHED-TTL:PT1H
BEGIN:VTIMEZONE
TZID:Europe/Belgrade
BEGIN:DAYLIGHT
TZOFFSETFROM:+0100
TZOFFSETTO:+0200
TZNAME:CEST
DTSTART:20240331T010000
END:DAYLIGHT
BEGIN:STANDARD
TZOFFSETFROM:+0200
TZOFFSETTO:+0100
TZNAME:CET
DTSTART:20241027T010000
END:STANDARD
BEGIN:DAYLIGHT
TZOFFSETFROM:+0100
TZOFFSETTO:+0200
TZNAME:CEST
DTSTART:20250330T010000
END:DAYLIGHT
BEGIN:STANDARD
TZOFFSETFROM:+0200
TZOFFSETTO:+0100
TZNAME:CET
DTSTART:20251026T010000
END:STANDARD
BEGIN:DAYLIGHT
TZOFFSETFROM:+0100
TZOFFSETTO:+0200
TZNAME:CEST
DTSTART:20260329T010000
END:DAYLIGHT
BEGIN:STANDARD
TZOFFSETFROM:+0200
TZOFFSETTO:+0100
TZNAME:CET
DTSTART:20261025T010000
END:STANDARD
END:VTIMEZONE
BEGIN:VEVENT
DTSTART;VALUE=DATE:20251213
DTEND;VALUE=DATE:20251214
DTSTAMP:20260422T142518
CREATED:20251121T160149Z
LAST-MODIFIED:20251121T160149Z
UID:4527-1765584000-1765670399@www.danubius1885.org
SUMMARY:Veslački Triatlon 2025!
DESCRIPTION:U subotu\, 13. decembra 2025.\, u prostorijama našeg kluba održaće se Veslački triatlon – takmičenje koje spaja veslački ergometar\, bicikl i trčanje u jedan izazovan i dinamičan sportski događaj! \nProšlogodišnje izdanje bilo je izuzetno uspešno: veliki odziv\, sjajna atmosfera i borbeni duh naših takmičara motivisali su nas da ove godine postavimo lestvicu još više. \nOčekujemo još bolju energiju\, još više učesnika i još jaču borbu do poslednjeg metra! \nVidimo se 13. decembra!
URL:http://www.danubius1885.org/event/veslacki-triatlon-2025/
END:VEVENT
END:VCALENDAR